BEGIN:VCALENDAR
VERSION:2.0
PRODID:-//Gemeinde Roseburg - ECPv6.15.14//NONSGML v1.0//EN
CALSCALE:GREGORIAN
METHOD:PUBLISH
X-WR-CALNAME:Gemeinde Roseburg
X-ORIGINAL-URL:https://gemeinde-roseburg.de
X-WR-CALDESC:Veranstaltungen für Gemeinde Roseburg
REFRESH-INTERVAL;VALUE=DURATION:PT1H
X-Robots-Tag:noindex
X-PUBLISHED-TTL:PT1H
BEGIN:VTIMEZONE
TZID:Europe/Berlin
BEGIN:DAYLIGHT
TZOFFSETFROM:+0100
TZOFFSETTO:+0200
TZNAME:CEST
DTSTART:20240331T010000
END:DAYLIGHT
BEGIN:STANDARD
TZOFFSETFROM:+0200
TZOFFSETTO:+0100
TZNAME:CET
DTSTART:20241027T010000
END:STANDARD
BEGIN:DAYLIGHT
TZOFFSETFROM:+0100
TZOFFSETTO:+0200
TZNAME:CEST
DTSTART:20250330T010000
END:DAYLIGHT
BEGIN:STANDARD
TZOFFSETFROM:+0200
TZOFFSETTO:+0100
TZNAME:CET
DTSTART:20251026T010000
END:STANDARD
BEGIN:DAYLIGHT
TZOFFSETFROM:+0100
TZOFFSETTO:+0200
TZNAME:CEST
DTSTART:20260329T010000
END:DAYLIGHT
BEGIN:STANDARD
TZOFFSETFROM:+0200
TZOFFSETTO:+0100
TZNAME:CET
DTSTART:20261025T010000
END:STANDARD
END:VTIMEZONE
BEGIN:VEVENT
DTSTART;TZID=Europe/Berlin:20250622T130000
DTEND;TZID=Europe/Berlin:20250622T160000
DTSTAMP:20260419T163159
CREATED:20250127T182709Z
LAST-MODIFIED:20250127T182711Z
UID:1396-1750597200-1750608000@gemeinde-roseburg.de
SUMMARY:Kleiderkreisel
DESCRIPTION:Kleiderkreisel in Neu-Güster
URL:https://gemeinde-roseburg.de/event/kleiderkreisel-3
LOCATION:Neu Güster Dorfplatz\, Kastanienweg\, Roseburg\, 21514\, Deutschland
END:VEVENT
BEGIN:VEVENT
DTSTART;TZID=Europe/Berlin:20250628T110000
DTEND;TZID=Europe/Berlin:20250628T110000
DTSTAMP:20260419T163159
CREATED:20250127T183533Z
LAST-MODIFIED:20250127T183641Z
UID:1398-1751108400-1751108400@gemeinde-roseburg.de
SUMMARY:Seifenkistenrennen
DESCRIPTION:2. Roseburger Seifenkistenrennen. \n\n\n\nStarte mit deiner selbstgebauten Seifenkiste! \nAltersklassen: 6-9 (Mini) /  10-13 (Junior) /  14+ (Senior) \nAnmeldung bis 01.03.2025 bei Eric J. per Whatsapp.
URL:https://gemeinde-roseburg.de/event/seifenkistenrennen-2
LOCATION:Mühlenweg\, Mühlenweg\, Roseburg\, 21514\, Germany
CATEGORIES:Aktionen im Dorf,Sport und Freizeit
END:VEVENT
END:VCALENDAR