BEGIN:VCALENDAR
VERSION:2.0
PRODID:-//Gemeinde Roseburg - ECPv6.15.14//NONSGML v1.0//EN
CALSCALE:GREGORIAN
METHOD:PUBLISH
X-WR-CALNAME:Gemeinde Roseburg
X-ORIGINAL-URL:https://gemeinde-roseburg.de
X-WR-CALDESC:Veranstaltungen für Gemeinde Roseburg
REFRESH-INTERVAL;VALUE=DURATION:PT1H
X-Robots-Tag:noindex
X-PUBLISHED-TTL:PT1H
BEGIN:VTIMEZONE
TZID:Europe/Berlin
BEGIN:DAYLIGHT
TZOFFSETFROM:+0100
TZOFFSETTO:+0200
TZNAME:CEST
DTSTART:20230326T010000
END:DAYLIGHT
BEGIN:STANDARD
TZOFFSETFROM:+0200
TZOFFSETTO:+0100
TZNAME:CET
DTSTART:20231029T010000
END:STANDARD
BEGIN:DAYLIGHT
TZOFFSETFROM:+0100
TZOFFSETTO:+0200
TZNAME:CEST
DTSTART:20240331T010000
END:DAYLIGHT
BEGIN:STANDARD
TZOFFSETFROM:+0200
TZOFFSETTO:+0100
TZNAME:CET
DTSTART:20241027T010000
END:STANDARD
BEGIN:DAYLIGHT
TZOFFSETFROM:+0100
TZOFFSETTO:+0200
TZNAME:CEST
DTSTART:20250330T010000
END:DAYLIGHT
BEGIN:STANDARD
TZOFFSETFROM:+0200
TZOFFSETTO:+0100
TZNAME:CET
DTSTART:20251026T010000
END:STANDARD
END:VTIMEZONE
BEGIN:VEVENT
DTSTART;TZID=Europe/Berlin:20240706T140000
DTEND;TZID=Europe/Berlin:20240706T230000
DTSTAMP:20260421T151242
CREATED:20240204T151011Z
LAST-MODIFIED:20240204T172535Z
UID:1305-1720274400-1720306800@gemeinde-roseburg.de
SUMMARY:Seifenkistenrennen
DESCRIPTION:Das erste roseburger Seifenkistenrennen findet statt! \n\n\n\nAnmeldung bis zum 29.02.2024 möglich!
URL:https://gemeinde-roseburg.de/event/seifenkistenrennen
CATEGORIES:Aktionen im Dorf,Kinder und Jugend im Dorf,Sport und Freizeit
END:VEVENT
BEGIN:VEVENT
DTSTART;TZID=Europe/Berlin:20240720T180000
DTEND;TZID=Europe/Berlin:20240720T223000
DTSTAMP:20260421T151242
CREATED:20240204T151312Z
LAST-MODIFIED:20240204T172620Z
UID:1308-1721498400-1721514600@gemeinde-roseburg.de
SUMMARY:Roseburger Dinner
DESCRIPTION:Roseburger Dinner im Haus der Stille Garten
URL:https://gemeinde-roseburg.de/event/roseburger-dinner
LOCATION:Haus der Stille eV\, Mühlenweg 20\, Roseburg\, 21514
CATEGORIES:Aktionen im Dorf,Sport und Freizeit,Veranstaltungen von Extern
END:VEVENT
END:VCALENDAR