BEGIN:VCALENDAR
VERSION:2.0
PRODID:-//Gemeinde Roseburg - ECPv6.15.14//NONSGML v1.0//EN
CALSCALE:GREGORIAN
METHOD:PUBLISH
X-ORIGINAL-URL:https://gemeinde-roseburg.de
X-WR-CALDESC:Veranstaltungen für Gemeinde Roseburg
REFRESH-INTERVAL;VALUE=DURATION:PT1H
X-Robots-Tag:noindex
X-PUBLISHED-TTL:PT1H
BEGIN:VTIMEZONE
TZID:Europe/Berlin
BEGIN:DAYLIGHT
TZOFFSETFROM:+0100
TZOFFSETTO:+0200
TZNAME:CEST
DTSTART:20240331T010000
END:DAYLIGHT
BEGIN:STANDARD
TZOFFSETFROM:+0200
TZOFFSETTO:+0100
TZNAME:CET
DTSTART:20241027T010000
END:STANDARD
BEGIN:DAYLIGHT
TZOFFSETFROM:+0100
TZOFFSETTO:+0200
TZNAME:CEST
DTSTART:20250330T010000
END:DAYLIGHT
BEGIN:STANDARD
TZOFFSETFROM:+0200
TZOFFSETTO:+0100
TZNAME:CET
DTSTART:20251026T010000
END:STANDARD
BEGIN:DAYLIGHT
TZOFFSETFROM:+0100
TZOFFSETTO:+0200
TZNAME:CEST
DTSTART:20260329T010000
END:DAYLIGHT
BEGIN:STANDARD
TZOFFSETFROM:+0200
TZOFFSETTO:+0100
TZNAME:CET
DTSTART:20261025T010000
END:STANDARD
END:VTIMEZONE
BEGIN:VEVENT
DTSTART;TZID=Europe/Berlin:20250417T170000
DTEND;TZID=Europe/Berlin:20250417T170000
DTSTAMP:20260419T212038
CREATED:20250127T181620Z
LAST-MODIFIED:20250331T080227Z
UID:1389-1744909200-1744909200@gemeinde-roseburg.de
SUMMARY:Ostereiersuche
DESCRIPTION:17:00 Uhr – Ostereiersammeln – Treffen auf dem Spielplatz
URL:https://gemeinde-roseburg.de/event/ostereiersammeln-und-osterfeuer
LOCATION:Spielplatz\, Bahnhofsstraße 12\, Roseburg\, 21514
CATEGORIES:Kinder und Jugend im Dorf,Sport und Freizeit
ATTACH;FMTTYPE=image/png:https://gemeinde-roseburg.de/wp-content/uploads/2025/01/Eiersuche_2025.png
ORGANIZER;CN="Doris Langhans":MAILTO:doris.langhans65@gmx.de
END:VEVENT
BEGIN:VEVENT
DTSTART;TZID=Europe/Berlin:20250417T183000
DTEND;TZID=Europe/Berlin:20250417T235959
DTSTAMP:20260419T212038
CREATED:20250331T081133Z
LAST-MODIFIED:20250331T081135Z
UID:1430-1744914600-1744934399@gemeinde-roseburg.de
SUMMARY:Osterfeuer Feuerwehr
DESCRIPTION:Einladung zum Osterfeuer \n\n\n\nDie Feuerwehr lädt alle Roseburger zum diesjährigen Osterfeuer am 17.04.2025 (Gründonnersrag) ein. \nBeginn 18:30 Uhr auf Spielplatz. \nGetränke und Speisen sind vor Ort käuflich zu erwerben. \nAbgabe von Grünschnitt am Samstag 12.04.2025 von  9:00 – 12:00 Uhr (Spielzplatz) –  Bitte keine dicken Baumwurzeln oder Baumstümpfe.
URL:https://gemeinde-roseburg.de/event/osterfeuer-feuerwehr
LOCATION:Spielplatz\, Bahnhofsstraße 12\, Roseburg\, 21514
ATTACH;FMTTYPE=image/jpeg:https://gemeinde-roseburg.de/wp-content/uploads/2025/03/30976648-7459-420b-9ee0-2785bbead216.jpeg
END:VEVENT
END:VCALENDAR