BEGIN:VCALENDAR
VERSION:2.0
PRODID:-//Gemeinde Roseburg - ECPv6.15.14//NONSGML v1.0//EN
CALSCALE:GREGORIAN
METHOD:PUBLISH
X-ORIGINAL-URL:https://gemeinde-roseburg.de
X-WR-CALDESC:Veranstaltungen für Gemeinde Roseburg
REFRESH-INTERVAL;VALUE=DURATION:PT1H
X-Robots-Tag:noindex
X-PUBLISHED-TTL:PT1H
BEGIN:VTIMEZONE
TZID:Europe/Berlin
BEGIN:DAYLIGHT
TZOFFSETFROM:+0100
TZOFFSETTO:+0200
TZNAME:CEST
DTSTART:20230326T010000
END:DAYLIGHT
BEGIN:STANDARD
TZOFFSETFROM:+0200
TZOFFSETTO:+0100
TZNAME:CET
DTSTART:20231029T010000
END:STANDARD
BEGIN:DAYLIGHT
TZOFFSETFROM:+0100
TZOFFSETTO:+0200
TZNAME:CEST
DTSTART:20240331T010000
END:DAYLIGHT
BEGIN:STANDARD
TZOFFSETFROM:+0200
TZOFFSETTO:+0100
TZNAME:CET
DTSTART:20241027T010000
END:STANDARD
BEGIN:DAYLIGHT
TZOFFSETFROM:+0100
TZOFFSETTO:+0200
TZNAME:CEST
DTSTART:20250330T010000
END:DAYLIGHT
BEGIN:STANDARD
TZOFFSETFROM:+0200
TZOFFSETTO:+0100
TZNAME:CET
DTSTART:20251026T010000
END:STANDARD
END:VTIMEZONE
BEGIN:VEVENT
DTSTART;TZID=Europe/Berlin:20240224T100000
DTEND;TZID=Europe/Berlin:20240224T143000
DTSTAMP:20260420T131618
CREATED:20220823T133037Z
LAST-MODIFIED:20240204T143844Z
UID:964-1708768800-1708785000@gemeinde-roseburg.de
SUMMARY:Frauenfrühstück
DESCRIPTION:Am Samstag den 24. Februar\, um 10.00 Uhr findet im Feuerwehrgerätehaus wieder unser Frauenfrühstück statt. \n\n\n\nIn gemütlicher Runde möchten wir Frauen klönen und uns austauschen. \n\n\n\nJeder bringt eine Kleinigkeit für das Büfett mit. Unkostenbeitrag 2\,50€.  \n\n\n\nAnmeldung bei Doris Langhans bis zum 21.02. unter Tel: 04158/890161 oder 01577/4531820 möglich.                                \n\n\n\nIch freue mich auf einen schönen Vormittag mit euch. \n\n\n\nWeitere Informationen hier!
URL:https://gemeinde-roseburg.de/event/frauenfruehstueck
LOCATION:Feuerwehrgerätehaus\, Trammer Weg 2\, Roseburg\, 21514\, Deutschland
CATEGORIES:Aktionen im Dorf,Sport und Freizeit
ORGANIZER;CN="Doris Langhans":MAILTO:doris.langhans65@gmx.de
END:VEVENT
END:VCALENDAR