BEGIN:VCALENDAR
VERSION:2.0
PRODID:-//Gemeinde Roseburg - ECPv6.15.14//NONSGML v1.0//EN
CALSCALE:GREGORIAN
METHOD:PUBLISH
X-ORIGINAL-URL:https://gemeinde-roseburg.de
X-WR-CALDESC:Veranstaltungen für Gemeinde Roseburg
REFRESH-INTERVAL;VALUE=DURATION:PT1H
X-Robots-Tag:noindex
X-PUBLISHED-TTL:PT1H
BEGIN:VTIMEZONE
TZID:Europe/Berlin
BEGIN:DAYLIGHT
TZOFFSETFROM:+0100
TZOFFSETTO:+0200
TZNAME:CEST
DTSTART:20230326T010000
END:DAYLIGHT
BEGIN:STANDARD
TZOFFSETFROM:+0200
TZOFFSETTO:+0100
TZNAME:CET
DTSTART:20231029T010000
END:STANDARD
BEGIN:DAYLIGHT
TZOFFSETFROM:+0100
TZOFFSETTO:+0200
TZNAME:CEST
DTSTART:20240331T010000
END:DAYLIGHT
BEGIN:STANDARD
TZOFFSETFROM:+0200
TZOFFSETTO:+0100
TZNAME:CET
DTSTART:20241027T010000
END:STANDARD
BEGIN:DAYLIGHT
TZOFFSETFROM:+0100
TZOFFSETTO:+0200
TZNAME:CEST
DTSTART:20250330T010000
END:DAYLIGHT
BEGIN:STANDARD
TZOFFSETFROM:+0200
TZOFFSETTO:+0100
TZNAME:CET
DTSTART:20251026T010000
END:STANDARD
END:VTIMEZONE
BEGIN:VEVENT
DTSTART;TZID=Europe/Berlin:20240220T150000
DTEND;TZID=Europe/Berlin:20240220T164500
DTSTAMP:20260420T131623
CREATED:20230612T063413Z
LAST-MODIFIED:20240204T180105Z
UID:1227-1708441200-1708447500@gemeinde-roseburg.de
SUMMARY:Spieliothek in Roseburg!
DESCRIPTION:Die mobile Spieliothek kommt nach Roseburg! Der Kreisjugendring ist mit seiner Spieliothek bei uns im Gemeindehaus. \n\n\n\nDort könnt Ihr Eure Lieblingsspiele und neue Gesellschaftsspiele mit uns undanderen Besuchern spielen. Diese Spiele könnt Ihr kostenlos ausleihen. \n\n\n\nTermine 2024 in Roseburg: \n\n\n\nIm Gemeindehaus von 15:00-16:45 Uhr \n\n\n\n12.03 – 23.04. – 14.05. – 04.06. – 25.06. – 16.07.
URL:https://gemeinde-roseburg.de/event/spieliothek-in-roseburg-2
LOCATION:Feuerwehrgerätehaus\, Trammer Weg 2\, Roseburg\, 21514\, Deutschland
CATEGORIES:Aktionen im Dorf,Engagement in der Gemeinde,Kinder und Jugend im Dorf,Sport und Freizeit
ORGANIZER;CN="Kreisjugendring Herzogtum Lauenburg e. V. - Spieliothek -":MAILTO:spieliothek@kjr-herzogtum-lauenburg.de
END:VEVENT
END:VCALENDAR