BEGIN:VCALENDAR
VERSION:2.0
PRODID:-//Gemeinde Roseburg - ECPv6.15.14//NONSGML v1.0//EN
CALSCALE:GREGORIAN
METHOD:PUBLISH
X-WR-CALNAME:Gemeinde Roseburg
X-ORIGINAL-URL:https://gemeinde-roseburg.de
X-WR-CALDESC:Veranstaltungen für Gemeinde Roseburg
REFRESH-INTERVAL;VALUE=DURATION:PT1H
X-Robots-Tag:noindex
X-PUBLISHED-TTL:PT1H
BEGIN:VTIMEZONE
TZID:Europe/Berlin
BEGIN:DAYLIGHT
TZOFFSETFROM:+0100
TZOFFSETTO:+0200
TZNAME:CEST
DTSTART:20220327T010000
END:DAYLIGHT
BEGIN:STANDARD
TZOFFSETFROM:+0200
TZOFFSETTO:+0100
TZNAME:CET
DTSTART:20221030T010000
END:STANDARD
BEGIN:DAYLIGHT
TZOFFSETFROM:+0100
TZOFFSETTO:+0200
TZNAME:CEST
DTSTART:20230326T010000
END:DAYLIGHT
BEGIN:STANDARD
TZOFFSETFROM:+0200
TZOFFSETTO:+0100
TZNAME:CET
DTSTART:20231029T010000
END:STANDARD
BEGIN:DAYLIGHT
TZOFFSETFROM:+0100
TZOFFSETTO:+0200
TZNAME:CEST
DTSTART:20240331T010000
END:DAYLIGHT
BEGIN:STANDARD
TZOFFSETFROM:+0200
TZOFFSETTO:+0100
TZNAME:CET
DTSTART:20241027T010000
END:STANDARD
END:VTIMEZONE
BEGIN:VEVENT
DTSTART;TZID=Europe/Berlin:20231202T143000
DTEND;TZID=Europe/Berlin:20231202T200000
DTSTAMP:20260420T161433
CREATED:20211021T060138Z
LAST-MODIFIED:20231020T173307Z
UID:521-1701527400-1701547200@gemeinde-roseburg.de
SUMMARY:Seniorenweihnachtsfeier
DESCRIPTION:Die Gemeinde lädt Sie rechtherzlich zur Seniorenweihnachtsfeier\, um 14.30 Uhr Einladung folgt!
URL:https://gemeinde-roseburg.de/event/seniorenweihnachtsfeier
LOCATION:Gaststätte Hans Heitmann Wotersen\, Haus 7\, Wotersen\, 21514\, Deutschland
CATEGORIES:Sport und Freizeit
END:VEVENT
END:VCALENDAR