BEGIN:VCALENDAR
VERSION:2.0
PRODID:-//Gemeinde Roseburg - ECPv6.15.14//NONSGML v1.0//EN
CALSCALE:GREGORIAN
METHOD:PUBLISH
X-WR-CALNAME:Gemeinde Roseburg
X-ORIGINAL-URL:https://gemeinde-roseburg.de
X-WR-CALDESC:Veranstaltungen für Gemeinde Roseburg
REFRESH-INTERVAL;VALUE=DURATION:PT1H
X-Robots-Tag:noindex
X-PUBLISHED-TTL:PT1H
BEGIN:VTIMEZONE
TZID:Europe/Berlin
BEGIN:DAYLIGHT
TZOFFSETFROM:+0100
TZOFFSETTO:+0200
TZNAME:CEST
DTSTART:20220327T010000
END:DAYLIGHT
BEGIN:STANDARD
TZOFFSETFROM:+0200
TZOFFSETTO:+0100
TZNAME:CET
DTSTART:20221030T010000
END:STANDARD
BEGIN:DAYLIGHT
TZOFFSETFROM:+0100
TZOFFSETTO:+0200
TZNAME:CEST
DTSTART:20230326T010000
END:DAYLIGHT
BEGIN:STANDARD
TZOFFSETFROM:+0200
TZOFFSETTO:+0100
TZNAME:CET
DTSTART:20231029T010000
END:STANDARD
BEGIN:DAYLIGHT
TZOFFSETFROM:+0100
TZOFFSETTO:+0200
TZNAME:CEST
DTSTART:20240331T010000
END:DAYLIGHT
BEGIN:STANDARD
TZOFFSETFROM:+0200
TZOFFSETTO:+0100
TZNAME:CET
DTSTART:20241027T010000
END:STANDARD
END:VTIMEZONE
BEGIN:VEVENT
DTSTART;TZID=Europe/Berlin:20231104T163000
DTEND;TZID=Europe/Berlin:20231104T180000
DTSTAMP:20260420T113135
CREATED:20231020T173851Z
LAST-MODIFIED:20231020T174021Z
UID:1270-1699115400-1699120800@gemeinde-roseburg.de
SUMMARY:Kinderkino 3-6 Jahre
DESCRIPTION:Für die kleinen\, wer möchte in Begleitungder Eltern\n\n\n\nDauer ca. 60min.
URL:https://gemeinde-roseburg.de/event/kinderkino-3-6-jahre-2
LOCATION:Feuerwehrgerätehaus\, Trammer Weg 2\, Roseburg\, 21514\, Deutschland
CATEGORIES:Aktionen im Dorf,Kinder und Jugend im Dorf,Sport und Freizeit
END:VEVENT
BEGIN:VEVENT
DTSTART;TZID=Europe/Berlin:20231104T180000
DTEND;TZID=Europe/Berlin:20231104T193000
DTSTAMP:20260420T113135
CREATED:20220823T132127Z
LAST-MODIFIED:20231020T173454Z
UID:954-1699120800-1699126200@gemeinde-roseburg.de
SUMMARY:Kinderkino ab 6 Jahren
DESCRIPTION:18:00 Uhr Film \n\n\n\n\nFreigabe ab 6 Jahren\n\n\n\nohne Begleitung der Eltern\n\n\n\nDauer ca. 100min.\n\n\n\n\nAnmeldung: Bitte kurze WhatsApp oder SMS anmit Name und FilmWir freuen uns auf Euch! \n\n\n\n\nEinladung als PDF
URL:https://gemeinde-roseburg.de/event/kinderkino-ab-6-jahren
LOCATION:Feuerwehrgerätehaus\, Trammer Weg 2\, Roseburg\, 21514\, Deutschland
CATEGORIES:Aktionen im Dorf,Kinder und Jugend im Dorf,Sport und Freizeit
END:VEVENT
END:VCALENDAR